BEGIN:VCALENDAR
VERSION:2.0
PRODID:-//DECODED® - ECPv6.15.20//NONSGML v1.0//EN
CALSCALE:GREGORIAN
METHOD:PUBLISH
X-ORIGINAL-URL:https://decoded.expert
X-WR-CALDESC:Events for DECODED®
REFRESH-INTERVAL;VALUE=DURATION:PT1H
X-Robots-Tag:noindex
X-PUBLISHED-TTL:PT1H
BEGIN:VTIMEZONE
TZID:UTC
BEGIN:STANDARD
TZOFFSETFROM:+0000
TZOFFSETTO:+0000
TZNAME:UTC
DTSTART:20240101T000000
END:STANDARD
END:VTIMEZONE
BEGIN:VEVENT
DTSTART;TZID=UTC:20251218T130000
DTEND;TZID=UTC:20251218T160000
DTSTAMP:20260419T174840
CREATED:20250902T201858Z
LAST-MODIFIED:20250902T201858Z
UID:2855-1766062800-1766073600@decoded.expert
SUMMARY:DECODED® Subrecipient Monitoring: Managing Compliance Amid Regulatory Uncertainty
DESCRIPTION:This extended 3-hour training is designed for grant recipients and pass-through entities seeking to deepen their understanding of subrecipient monitoring in a time of evolving federal priorities and oversight expectations. Participants will explore practical strategies to ensure compliance\, adapt to shifting regulations\, and strengthen internal controls. The session includes real-world scenarios\, tools for proactive oversight\, and guidance for navigating risk in uncertain environments.
URL:https://decoded.expert/event/decoded-subrecipient-monitoring-managing-compliance-amid-regulatory-uncertainty/
LOCATION:Virtual Event\, Your Computer
ORGANIZER;CN="DECODED%C2%AE":MAILTO:stickguys@decoded.expert
END:VEVENT
END:VCALENDAR